BEGIN:VCALENDAR
VERSION:2.0
PRODID:-//Tukios.com/
BEGIN:VEVENT
UID:75ed0e1e-c162-4a90-8c11-d932c1f37243@obituaries.demerosfh.com
DTSTAMP:20260425T234712Z
DTSTART:20260428T150000Z
DTEND:20260428T160000Z
SUMMARY:Funeral Service
DESCRIPTION:
URL:https://obituaries.demerosfh.com/artemios-tavoularis
LOCATION:St. Haralambos Greek Orthodox Church 7373 North Caldwell Avenue  
	Niles IL 60714
GEO:42.0164444;-87.7904971
END:VEVENT
END:VCALENDAR