BEGIN:VCALENDAR
VERSION:2.0
PRODID:-//Tukios.com/
BEGIN:VEVENT
UID:5b9a6cf6-6808-4f42-a2c8-013265ad63b0@obituaries.demerosfh.com
DTSTAMP:20260425T234640Z
DTSTART:20260428T140000Z
DTEND:20260428T150000Z
SUMMARY:Visitation
DESCRIPTION:
URL:https://obituaries.demerosfh.com/artemios-tavoularis
LOCATION:St. Haralambos Greek Orthodox Church 7373 North Caldwell Avenue  
	Niles IL 60714
GEO:42.0164444;-87.7904971
END:VEVENT
END:VCALENDAR